BEGIN:VCALENDAR
VERSION:2.0
PRODID:spatie/icalendar-generator
DESCRIPTION:Evenementen van Personal Hockey Coach
X-WR-CALDESC:Evenementen van Personal Hockey Coach
REFRESH-INTERVAL;VALUE=DURATION:PT1440M
X-PUBLISHED-TTL:PT1440M
BEGIN:VTIMEZONE
TZID:Etc/GMT-1
BEGIN:STANDARD
DTSTART:20200531T181500Z
TZOFFSETFROM:+0100
TZOFFSETTO:+0100
END:STANDARD
END:VTIMEZONE
BEGIN:VTIMEZONE
TZID:UTC
BEGIN:STANDARD
DTSTART:20250727T202952Z
TZOFFSETFROM:+0000
TZOFFSETTO:+0000
END:STANDARD
END:VTIMEZONE
BEGIN:VEVENT
UID:7-7
DTSTAMP:20260423T202952Z
SUMMARY:Spitsen vs Goalies
LOCATION:Locatie Haarlem Vergierdeweg 265 B  Haarlem  2026 BJ
ORGANIZER;CN=Paul Foole:MAILTO:phc@paulfoole.nl
DTSTART;TZID=Etc/GMT-1:20210225T181500
DTEND;TZID=Etc/GMT-1:20210225T194500
X-ALT-DESC;FMTTYPE=TEXT/HTML:Spektakelstuk voor spelers en keepers Informat
 ie en Inschrijven
CATEGORIES:Spitsten VS Goalies
URL;VALUE=URI:https://www.personalhockeycoach.nl/mc-events/spitsen-vs-goali
 es-4/
METHOD:PUBLISH
END:VEVENT
END:VCALENDAR